BEGIN:VCALENDAR
VERSION:2.0
PRODID:-//Squarespace Inc/Squarespace 6//v6//EN
BEGIN:VEVENT
UID:5d6f5cfdc5285d0001f07179@squarespace.com
DTSTAMP:20190904T064642Z
DTSTART:20190906T100000Z
DTEND:20190906T130000Z
SUMMARY:Corey Legge @ Murrah Hall
END:VEVENT
END:VCALENDAR
