BEGIN:VCALENDAR
VERSION:2.0
PRODID:-//Squarespace Inc/Squarespace 6//v6//EN
BEGIN:VEVENT
UID:5df5a3b35040b64727ec2f98@squarespace.com
DTSTAMP:20191215T031215Z
DTSTART:20200209T020000Z
DTEND:20200209T060000Z
SUMMARY:Cooking School: Pastry Basics
END:VEVENT
END:VCALENDAR
