BEGIN:VCALENDAR
VERSION:2.0
PRODID:-//Squarespace Inc/Squarespace 6//v6//EN
BEGIN:VEVENT
UID:5df5a29203e32e53349475e2@squarespace.com
DTSTAMP:20191215T031349Z
DTSTART:20191220T230000Z
DTEND:20191221T030000Z
SUMMARY:Cooking School: Little Chefs - Bake Your Own Christmas Gifts
END:VEVENT
END:VCALENDAR
