BEGIN:VCALENDAR
VERSION:2.0
PRODID:-//Squarespace Inc/Squarespace 6//v6//EN
BEGIN:VEVENT
UID:5da148af25ee08754a5da5fc@squarespace.com
DTSTAMP:20191012T033347Z
DTSTART:20191018T000000Z
DTEND:20191018T010000Z
SUMMARY:"Cookin' for Cures" Author Talk @ Bermagui Library
END:VEVENT
END:VCALENDAR
