BEGIN:VCALENDAR
VERSION:2.0
PRODID:-//Squarespace Inc/Squarespace 6//v6//EN
BEGIN:VEVENT
UID:5dabcc86bcfe0c53d04fc8f2@squarespace.com
DTSTAMP:20191020T025641Z
DTSTART:20191115T080000Z
DTEND:20191115T110000Z
SUMMARY:Code War @ Bermagui Country Club
END:VEVENT
END:VCALENDAR
