BEGIN:VCALENDAR
VERSION:2.0
PRODID:-//Squarespace Inc/Squarespace 6//v6//EN
BEGIN:VEVENT
UID:5dbe41938fc82a626b899677@squarespace.com
DTSTAMP:20191103T025653Z
DTSTART:20191115T080000Z
DTEND:20191115T110000Z
SUMMARY:Open Mic @ The River Rock Cafe
END:VEVENT
END:VCALENDAR
