BEGIN:VCALENDAR
VERSION:2.0
PRODID:-//Squarespace Inc/Squarespace 6//v6//EN
BEGIN:VEVENT
UID:5e00112b16610860869e93ee@squarespace.com
DTSTAMP:20191223T010427Z
DTSTART:20191224T060000Z
DTEND:20191224T223000Z
SUMMARY:Church Services - Christmas 2019
END:VEVENT
END:VCALENDAR
