BEGIN:VCALENDAR
VERSION:2.0
PRODID:-//Squarespace Inc/Squarespace 6//v6//EN
BEGIN:VEVENT
UID:5dbccb50c85da67954ae0e54@squarespace.com
DTSTAMP:20191113T035347Z
DTSTART:20191208T020000Z
DTEND:20191208T060000Z
SUMMARY:Christmas Concert @ Bermagui Country Club
END:VEVENT
END:VCALENDAR
