BEGIN:VCALENDAR
VERSION:2.0
PRODID:-//Squarespace Inc/Squarespace 6//v6//EN
BEGIN:VEVENT
UID:5e3e058ef875f52b5637456d@squarespace.com
DTSTAMP:20200222T050926Z
DTSTART:20200417T090000Z
DTEND:20200417T130000Z
SUMMARY:Chaika @ Murrah Hall
END:VEVENT
END:VCALENDAR
