BEGIN:VCALENDAR
VERSION:2.0
PRODID:-//Squarespace Inc/Squarespace 6//v6//EN
BEGIN:VEVENT
UID:5df5910f34929a2cbf1be073@squarespace.com
DTSTAMP:20191215T020315Z
DTSTART:20191228T030000Z
DTEND:20191230T050000Z
SUMMARY:Camel Rock Surf School Summer Groms (Kids) Surf Lessons
END:VEVENT
END:VCALENDAR
