BEGIN:VCALENDAR
VERSION:2.0
PRODID:-//Squarespace Inc/Squarespace 6//v6//EN
BEGIN:VEVENT
UID:5de0ccbf305b2260c99d23f7@squarespace.com
DTSTAMP:20191129T075057Z
DTSTART:20191219T040000Z
DTEND:20191219T060000Z
SUMMARY:Bermagui Growers Market
END:VEVENT
END:VCALENDAR
