BEGIN:VCALENDAR
VERSION:2.0
PRODID:-//Squarespace Inc/Squarespace 6//v6//EN
BEGIN:VEVENT
UID:5de0af4ef26533387af281b4@squarespace.com
DTSTAMP:20191129T054250Z
DTSTART:20191130T073000Z
DTEND:20191130T113000Z
SUMMARY:Big Merino @ Quarterdeck Narooma
END:VEVENT
END:VCALENDAR
