BEGIN:VCALENDAR
VERSION:2.0
PRODID:-//Squarespace Inc/Squarespace 6//v6//EN
BEGIN:VEVENT
UID:5d452108d73cd5000110ed6f@squarespace.com
DTSTAMP:20190808T011926Z
DTSTART:20190810T090000Z
DTEND:20190810T130000Z
SUMMARY:Bermagui Winter Ball @ Bermagui Country Club
GEO:-36.427864;150.073348
LOCATION:Bermagui Country Club Auditorium\, Tuross Street\, Bermagui
END:VEVENT
END:VCALENDAR
