BEGIN:VCALENDAR
VERSION:2.0
PRODID:-//Squarespace Inc/Squarespace 6//v6//EN
BEGIN:VEVENT
UID:5d451cbfb176780001f9a631@squarespace.com
DTSTAMP:20190808T013118Z
DTSTART:20190824T223000Z
DTEND:20190825T023000Z
SUMMARY:Bermagui Market
GEO:-36.427177;150.076831
LOCATION:Dickinson Park\, Lamont Street\, Bermagui
END:VEVENT
END:VCALENDAR
