BEGIN:VCALENDAR
VERSION:2.0
PRODID:-//Squarespace Inc/Squarespace 6//v6//EN
BEGIN:VEVENT
UID:5d451ddef352bf00011c3a7b@squarespace.com
DTSTAMP:20190805T020458Z
DTSTART:20191026T213000Z
DTEND:20191027T013000Z
SUMMARY:Bermagui Market
END:VEVENT
END:VCALENDAR
