BEGIN:VCALENDAR
VERSION:2.0
PRODID:-//Squarespace Inc/Squarespace 6//v6//EN
BEGIN:VEVENT
UID:5dd88de985e3643e174ecd2c@squarespace.com
DTSTAMP:20191123T020518Z
DTSTART:20200125T210000Z
DTEND:20200126T020000Z
SUMMARY:Bermagui Marine Rescue Moving Parts Swap Meet
END:VEVENT
END:VCALENDAR
