BEGIN:VCALENDAR
VERSION:2.0
PRODID:-//Squarespace Inc/Squarespace 6//v6//EN
BEGIN:VEVENT
UID:5d858578ddfd185309afdaf5@squarespace.com
DTSTAMP:20190921T020808Z
DTSTART:20191001T003000Z
DTEND:20191001T013000Z
SUMMARY:Bermagui Library School Holiday Storytime &amp\; Craft
END:VEVENT
END:VCALENDAR
