BEGIN:VCALENDAR
VERSION:2.0
PRODID:-//Squarespace Inc/Squarespace 6//v6//EN
BEGIN:VEVENT
UID:5d8586103a0839119076cdc7@squarespace.com
DTSTAMP:20191002T144759Z
DTSTART:20191009T233000Z
DTEND:20191010T003000Z
SUMMARY:Bermagui Library School Holiday Craft Workshop - SOLD OUT
END:VEVENT
END:VCALENDAR
