BEGIN:VCALENDAR
VERSION:2.0
PRODID:-//Squarespace Inc/Squarespace 6//v6//EN
BEGIN:VEVENT
UID:5de0c019d36d6241f1588830@squarespace.com
DTSTAMP:20191129T065351Z
DTSTART:20191216T233000Z
DTEND:20191217T003000Z
SUMMARY:Bermagui Library Christmas Story Time &amp\; Party
END:VEVENT
END:VCALENDAR
