BEGIN:VCALENDAR
VERSION:2.0
PRODID:-//Squarespace Inc/Squarespace 6//v6//EN
BEGIN:VEVENT
UID:5d8587391f1b7e66d90a50d6@squarespace.com
DTSTAMP:20190921T022038Z
DTSTART:20191006T203000Z
DTEND:20191008T063000Z
SUMMARY:Bermagui Legends Pro-Am @ Bermagui Country Club
END:VEVENT
END:VCALENDAR
