BEGIN:VCALENDAR
VERSION:2.0
PRODID:-//Squarespace Inc/Squarespace 6//v6//EN
BEGIN:VEVENT
UID:5e50b7bc576c4c1eab436f45@squarespace.com
DTSTAMP:20200222T051704Z
DTSTART:20200315T203000Z
DTEND:20200317T060000Z
SUMMARY:Bermagui Legends Pro-Am @ Bermagui Country Club
END:VEVENT
END:VCALENDAR
