BEGIN:VCALENDAR
VERSION:2.0
PRODID:-//Squarespace Inc/Squarespace 6//v6//EN
BEGIN:VEVENT
UID:5d589f30540929000160b3a2@squarespace.com
DTSTAMP:20190818T011720Z
DTSTART:20191004T080000Z
DTEND:20191006T080000Z
SUMMARY:Bermagui Jet Ski Fishing Competition
END:VEVENT
END:VCALENDAR
