BEGIN:VCALENDAR
VERSION:2.0
PRODID:-//Squarespace Inc/Squarespace 6//v6//EN
BEGIN:VEVENT
UID:5d948abdd6eaba092d24d0cc@squarespace.com
DTSTAMP:20191002T114014Z
DTSTART:20191024T040000Z
DTEND:20191024T060000Z
SUMMARY:Bermagui Growers Market
END:VEVENT
END:VCALENDAR
