BEGIN:VCALENDAR
VERSION:2.0
PRODID:-//Squarespace Inc/Squarespace 6//v6//EN
BEGIN:VEVENT
UID:5de9e1287367373ce50318e2@squarespace.com
DTSTAMP:20191206T050437Z
DTSTART:20191227T040000Z
DTEND:20191227T060000Z
SUMMARY:Bermagui Growers Market
END:VEVENT
END:VCALENDAR
