BEGIN:VCALENDAR
VERSION:2.0
PRODID:-//Squarespace Inc/Squarespace 6//v6//EN
BEGIN:VEVENT
UID:5d948c4531a18d6551e5718c@squarespace.com
DTSTAMP:20191002T114112Z
DTSTART:20191121T040000Z
DTEND:20191121T060000Z
SUMMARY:Bermagui Growers Market
END:VEVENT
END:VCALENDAR
