BEGIN:VCALENDAR
VERSION:2.0
PRODID:-//Squarespace Inc/Squarespace 6//v6//EN
BEGIN:VEVENT
UID:5d948c19b11bfa2735299b0d@squarespace.com
DTSTAMP:20191002T114139Z
DTSTART:20191114T040000Z
DTEND:20191114T060000Z
SUMMARY:Bermagui Growers Market
END:VEVENT
END:VCALENDAR
