BEGIN:VCALENDAR
VERSION:2.0
PRODID:-//Squarespace Inc/Squarespace 6//v6//EN
BEGIN:VEVENT
UID:5d948bd6beac7e1c1f28d5d3@squarespace.com
DTSTAMP:20191020T023731Z
DTSTART:20191107T040000Z
DTEND:20191107T060000Z
SUMMARY:Bermagui Growers Market
END:VEVENT
END:VCALENDAR
