BEGIN:VCALENDAR
VERSION:2.0
PRODID:-//Squarespace Inc/Squarespace 6//v6//EN
BEGIN:VEVENT
UID:5d948b9bd5847b0bd6b8f04c@squarespace.com
DTSTAMP:20191002T113643Z
DTSTART:20191031T040000Z
DTEND:20191031T060000Z
SUMMARY:Bermagui Growers Market
END:VEVENT
END:VCALENDAR
