BEGIN:VCALENDAR
VERSION:2.0
PRODID:-//Squarespace Inc/Squarespace 6//v6//EN
BEGIN:VEVENT
UID:5da14c01e91096688f376019@squarespace.com
DTSTAMP:20191124T103928Z
DTSTART:20191213T060000Z
DTEND:20191213T083000Z
SUMMARY:Free Community Christmas Carols
END:VEVENT
END:VCALENDAR
