BEGIN:VCALENDAR
VERSION:2.0
PRODID:-//Squarespace Inc/Squarespace 6//v6//EN
BEGIN:VEVENT
UID:5dbe4c7c7427c36528cef245@squarespace.com
DTSTAMP:20200212T061921Z
DTSTART:20200306T190000Z
DTEND:20200309T020000Z
SUMMARY:Bermagui Blue Water Classic Game Fishing Tournament
END:VEVENT
END:VCALENDAR
