BEGIN:VCALENDAR
VERSION:2.0
PRODID:-//Squarespace Inc/Squarespace 6//v6//EN
BEGIN:VEVENT
UID:5dabccf5c8d49d796df0d0ed@squarespace.com
DTSTAMP:20191020T030736Z
DTSTART:20191101T200000Z
DTEND:20191104T080000Z
SUMMARY:Bermagui Big Game Anglers Club Social Fishing Comp
END:VEVENT
END:VCALENDAR
