BEGIN:VCALENDAR
VERSION:2.0
PRODID:-//Squarespace Inc/Squarespace 6//v6//EN
BEGIN:VEVENT
UID:5d85bd5847101b6c868e4a1c@squarespace.com
DTSTAMP:20191012T032936Z
DTSTART:20191012T083000Z
DTEND:20191012T113000Z
SUMMARY:Benji &amp\; the Saltwater Sound System @ Murrah Hall
END:VEVENT
END:VCALENDAR
