BEGIN:VCALENDAR
VERSION:2.0
PRODID:-//Squarespace Inc/Squarespace 6//v6//EN
BEGIN:VEVENT
UID:5de1d589305b2260c9be0c78@squarespace.com
DTSTAMP:20191130T023619Z
DTSTART:20191227T060000Z
DTEND:20191227T080000Z
SUMMARY:Barefoot Bowls @ Bermagui Country Club
END:VEVENT
END:VCALENDAR
