BEGIN:VCALENDAR
VERSION:2.0
PRODID:-//Squarespace Inc/Squarespace 6//v6//EN
BEGIN:VEVENT
UID:5de1d56cc573c502d7c768d1@squarespace.com
DTSTAMP:20191130T023545Z
DTSTART:20191226T060000Z
DTEND:20191226T080000Z
SUMMARY:Barefoot Bowls @ Bermagui Country Club
END:VEVENT
END:VCALENDAR
