BEGIN:VCALENDAR
VERSION:2.0
PRODID:-//Squarespace Inc/Squarespace 6//v6//EN
BEGIN:VEVENT
UID:5dbe4a34c85da67954c516c9@squarespace.com
DTSTAMP:20191103T033905Z
DTSTART:20191130T010000Z
DTEND:20191130T120000Z
SUMMARY:Band Together Music Festival 2019
END:VEVENT
END:VCALENDAR
