BEGIN:VCALENDAR
VERSION:2.0
PRODID:-//Squarespace Inc/Squarespace 6//v6//EN
BEGIN:VEVENT
UID:5de0b8580c91bc6c3bbc358a@squarespace.com
DTSTAMP:20191129T062057Z
DTSTART:20191229T013000Z
DTEND:20191229T043000Z
SUMMARY:Live Music @ Tilba Valley Winery &amp\; Ale House
END:VEVENT
END:VCALENDAR
