BEGIN:VCALENDAR
VERSION:2.0
PRODID:-//Squarespace Inc/Squarespace 6//v6//EN
BEGIN:VEVENT
UID:5d4121396761e800016aac54@squarespace.com
DTSTAMP:20190808T013050Z
DTSTART:20190818T060000Z
DTEND:20190818T090000Z
SUMMARY:Live Music @ Bermagui Beach Hotel
GEO:37.056177;-95.710518
LOCATION:10 Lamont Street\, Bermagui
END:VEVENT
END:VCALENDAR
