BEGIN:VCALENDAR
VERSION:2.0
PRODID:-//Squarespace Inc/Squarespace 6//v6//EN
BEGIN:VEVENT
UID:5d8c585d3d8f090e2417f0ec@squarespace.com
DTSTAMP:20191108T040718Z
DTSTART:20191116T073000Z
DTEND:20191116T113000Z
SUMMARY:Owen Campbell @ The Quarterdeck Narooma
END:VEVENT
END:VCALENDAR
