BEGIN:VCALENDAR
VERSION:2.0
PRODID:-//Squarespace Inc/Squarespace 6//v6//EN
BEGIN:VEVENT
UID:5df5981f4ef8f11afcaa5335@squarespace.com
DTSTAMP:20200219T045024Z
DTSTART:20200328T073000Z
DTEND:20200328T120000Z
SUMMARY:The Swamp Stompers with Wolf Stone @ Quarterdeck Narooma
END:VEVENT
END:VCALENDAR
