BEGIN:VCALENDAR
VERSION:2.0
PRODID:-//Squarespace Inc/Squarespace 6//v6//EN
BEGIN:VEVENT
UID:5d396c978b5ad0000189365d@squarespace.com
DTSTAMP:20190808T014209Z
DTSTART:20190811T060000Z
DTEND:20190811T090000Z
SUMMARY:Live Music @ Bermagui Beach Hotel
GEO:-36.426127;150.078938
LOCATION:10 Lamont Street\, Bermagui
END:VEVENT
END:VCALENDAR
