BEGIN:VCALENDAR
VERSION:2.0
PRODID:-//Squarespace Inc/Squarespace 6//v6//EN
BEGIN:VEVENT
UID:5dbcca185dce6b050bc2e49c@squarespace.com
DTSTAMP:20191113T223419Z
DTSTART:20191113T230000Z
DTEND:20191127T050000Z
SUMMARY:Alex Bell Exhibition @ Shop7 Artspace
END:VEVENT
END:VCALENDAR
