BEGIN:VCALENDAR
VERSION:2.0
PRODID:-//Squarespace Inc/Squarespace 6//v6//EN
BEGIN:VEVENT
UID:5d58a1e8047a080001a1faf4@squarespace.com
DTSTAMP:20190818T011421Z
DTSTART:20190907T000000Z
DTEND:20190908T020000Z
SUMMARY:ACT Meteors Far South Coast Tour
END:VEVENT
END:VCALENDAR
