BEGIN:VCALENDAR
VERSION:2.0
PRODID:-//Squarespace Inc/Squarespace 6//v6//EN
BEGIN:VEVENT
UID:5e310eedd9f93063aa9aa70c@squarespace.com
DTSTAMP:20200129T045014Z
DTSTART:20200228T080000Z
DTEND:20200228T110000Z
SUMMARY:Open Mic @ The River Rock Cafe
END:VEVENT
END:VCALENDAR
