BEGIN:VCALENDAR
VERSION:2.0
PRODID:-//Squarespace Inc/Squarespace 6//v6//EN
BEGIN:VEVENT
UID:5de1d5acf26533387a15a466@squarespace.com
DTSTAMP:20191223T054856Z
DTSTART:20191229T060000Z
DTEND:20191229T080000Z
SUMMARY:Barefoot Bowls @ Bermagui Country Club
END:VEVENT
END:VCALENDAR
