BEGIN:VCALENDAR
VERSION:2.0
PRODID:-//Squarespace Inc/Squarespace 6//v6//EN
BEGIN:VEVENT
UID:5e55c681e0e38673fd4d17eb@squarespace.com
DTSTAMP:20200226T011555Z
DTSTART:20200306T090000Z
DTEND:20200306T113000Z
SUMMARY:Live Music @ Bermagui Country Club
END:VEVENT
END:VCALENDAR
