BEGIN:VCALENDAR
VERSION:2.0
PRODID:-//Squarespace Inc/Squarespace 6//v6//EN
BEGIN:VEVENT
UID:5dbcc20b8fc82a626b7277c8@squarespace.com
DTSTAMP:20191101T233921Z
DTSTART:20191122T090000Z
DTEND:20191122T120000Z
SUMMARY:Live Music @ Bermagui Country Club
END:VEVENT
END:VCALENDAR
