BEGIN:VCALENDAR
VERSION:2.0
PRODID:-//Squarespace Inc/Squarespace 6//v6//EN
BEGIN:VEVENT
UID:5de0b5ec11c57f4363ed9e9e@squarespace.com
DTSTAMP:20191129T062232Z
DTSTART:20191208T013000Z
DTEND:20191208T043000Z
SUMMARY:Live Music @ Tilba Valley Winery &amp\; Ale House
END:VEVENT
END:VCALENDAR
