BEGIN:VCALENDAR
VERSION:2.0
PRODID:-//Squarespace Inc/Squarespace 6//v6//EN
BEGIN:VEVENT
UID:5d94517dd5847b0bd6b5d035@squarespace.com
DTSTAMP:20191101T232937Z
DTSTART:20191027T050000Z
DTEND:20191027T080000Z
SUMMARY:Live Music @ Bermagui Beach Hotel
END:VEVENT
END:VCALENDAR
