BEGIN:VCALENDAR
VERSION:2.0
PRODID:-//Squarespace Inc/Squarespace 6//v6//EN
BEGIN:VEVENT
UID:5de0c600f26533387af43bb7@squarespace.com
DTSTAMP:20191129T071740Z
DTSTART:20191212T060000Z
DTEND:20191212T080000Z
SUMMARY:Barefoot Bowls @ Bermagui Country Club
END:VEVENT
END:VCALENDAR
