BEGIN:VCALENDAR
VERSION:2.0
PRODID:-//Squarespace Inc/Squarespace 6//v6//EN
BEGIN:VEVENT
UID:5e0015b0fc1cf84958c1c0f3@squarespace.com
DTSTAMP:20191223T011812Z
DTSTART:20200124T090000Z
DTEND:20200124T113000Z
SUMMARY:Live Music @ Bermagui Country Club
END:VEVENT
END:VCALENDAR
